BEGIN:VCALENDAR
VERSION:2.0
PRODID:-//Mary Berry Fiber Art - ECPv6.15.1.1//NONSGML v1.0//EN
CALSCALE:GREGORIAN
METHOD:PUBLISH
X-ORIGINAL-URL:https://maryberryfiberart.com
X-WR-CALDESC:Events for Mary Berry Fiber Art
REFRESH-INTERVAL;VALUE=DURATION:PT1H
X-Robots-Tag:noindex
X-PUBLISHED-TTL:PT1H
BEGIN:VTIMEZONE
TZID:America/Chicago
BEGIN:DAYLIGHT
TZOFFSETFROM:-0600
TZOFFSETTO:-0500
TZNAME:CDT
DTSTART:20240310T080000
END:DAYLIGHT
BEGIN:STANDARD
TZOFFSETFROM:-0500
TZOFFSETTO:-0600
TZNAME:CST
DTSTART:20241103T070000
END:STANDARD
END:VTIMEZONE
BEGIN:VEVENT
DTSTART;TZID=America/Chicago:20241010T180000
DTEND;TZID=America/Chicago:20241010T210000
DTSTAMP:20260423T160947
CREATED:20240820T170105Z
LAST-MODIFIED:20240823T224232Z
UID:9906-1728583200-1728594000@maryberryfiberart.com
SUMMARY:Continuation of October 8\, 2024 Class
DESCRIPTION:This is the second-half of the weaving class that started on October 8\, 2024.
URL:https://maryberryfiberart.com/event/continuation-of-october1-2024-class/
LOCATION:Millhouse McKinney\, 610 Elm Street\, Suite 1000\, McKinney\, Texas\, TX\, 75069\, United States
CATEGORIES:Rigid Heddle Weaving,Weaving
ORGANIZER;CN="Mary Berry":MAILTO:maryberryfiberart@gmail.com
END:VEVENT
BEGIN:VEVENT
DTSTART;TZID=America/Chicago:20241008T180000
DTEND;TZID=America/Chicago:20241008T210000
DTSTAMP:20260423T160947
CREATED:20240818T210316Z
LAST-MODIFIED:20240823T231040Z
UID:9898-1728410400-1728421200@maryberryfiberart.com
SUMMARY:Weave a Scarf in Two Half-Days (Oct. 8 & 10)
DESCRIPTION:Learn to weave on a Rigid Heddle Loom by going through the entire process and weaving yourself a scarf!\nIn this class\, you will learn: \n\nThe parts of the Rigid Heddle Loom and how they work;\nHow to warp the loom (the “warp” is the strings that go from front to back on the loom);\nHow to thread the slots and holes on the loom;\nHow to weave properly on the loom\, avoiding all the mistakes that new weavers traditionally make;\nHow to tie off your fringe and remove your finished scarf from the loom.\n\nNo prior weaving experience is required!  This is a class for the beginner weaver and anyone else who thinks they want to try weaving! I will bring everything you need (loom\, loom stand\, yarn\, all the small tools).  You bring a snack/supper and a drink! \nThe class is offered in two parts; you must attend both classes to complete your scarf. \nTimes and Dates:  Tuesday\, October 8\, and Thursday October 10\, 6:00-9:00 \nCost:  $125 ($95 class fee plus $25 reimbursement for the beautiful yarn you will weave with!)  The class fee also includes use of one of my Rigid Heddle Looms during the class time.
URL:https://maryberryfiberart.com/event/weave-a-scarf-in-two-half-days-oct-1-5/
LOCATION:Millhouse McKinney\, 610 Elm Street\, Suite 1000\, McKinney\, Texas\, TX\, 75069\, United States
CATEGORIES:Rigid Heddle Weaving,Weaving
ORGANIZER;CN="Mary Berry":MAILTO:maryberryfiberart@gmail.com
END:VEVENT
BEGIN:VEVENT
DTSTART;TZID=America/Chicago:20240912T180000
DTEND;TZID=America/Chicago:20240912T210000
DTSTAMP:20260423T160947
CREATED:20240912T170356Z
LAST-MODIFIED:20240820T170811Z
UID:9908-1726164000-1726174800@maryberryfiberart.com
SUMMARY:Continuation of September 10\, 2024 Class
DESCRIPTION:This is a continuation of the September 10\, 2024\, rigid heddle weaving class.
URL:https://maryberryfiberart.com/event/continuation-of-september-10-2024-class/
LOCATION:Millhouse McKinney\, 610 Elm Street\, Suite 1000\, McKinney\, Texas\, TX\, 75069\, United States
CATEGORIES:Rigid Heddle Weaving,Weaving
ORGANIZER;CN="Mary Berry":MAILTO:maryberryfiberart@gmail.com
END:VEVENT
BEGIN:VEVENT
DTSTART;TZID=America/Chicago:20240910T180000
DTEND;TZID=America/Chicago:20240912T210000
DTSTAMP:20260423T160947
CREATED:20240819T012846Z
LAST-MODIFIED:20240820T194841Z
UID:9885-1725991200-1726174800@maryberryfiberart.com
SUMMARY:Weave a Scarf in Two Half-Days (Sept 10\, Sept 12)
DESCRIPTION:Learn to weave on a Rigid Heddle Loom by going through the entire process and weaving yourself a scarf!\nIn this class\, you will learn: \n\nThe parts of the Rigid Heddle Loom and how they work;\nHow to warp the loom (the “warp” is the strings that go from front to back on the loom);\nHow to thread the slots and holes on the loom;\nHow to weave properly on the loom\, avoiding all the mistakes that new weavers traditionally make;\nHow to tie off your fringe and remove your finished scarf from the loom.\n\nNo prior weaving experience is required!  This is a class for the beginner weaver and anyone else who thinks they want to try weaving! I will bring everything you need (loom\, loom stand\, yarn\, all the small tools).  You bring a snack/supper and a drink! \nThe class is offered in two parts; you must attend both classes to complete your scarf. \nTime:  6:00 pm – 9:00pm \nDates:  Tuesday September 10 + Thursday September 12 \nCost:  $125 ($95 class fee plus $25 reimbursement for the beautiful yarn you will weave with!)  The class fee also includes use of one of my Rigid Heddle Looms during the class time.
URL:https://maryberryfiberart.com/event/weave-a-scarf-in-two-half-days-sept2024/
LOCATION:Millhouse McKinney\, 610 Elm Street\, Suite 1000\, McKinney\, Texas\, TX\, 75069\, United States
CATEGORIES:Rigid Heddle Weaving,Weaving
ORGANIZER;CN="Mary Berry":MAILTO:maryberryfiberart@gmail.com
END:VEVENT
END:VCALENDAR