BEGIN:VCALENDAR
VERSION:2.0
PRODID:-//Mary Berry Fiber Art - ECPv6.15.1.1//NONSGML v1.0//EN
CALSCALE:GREGORIAN
METHOD:PUBLISH
X-ORIGINAL-URL:https://maryberryfiberart.com
X-WR-CALDESC:Events for Mary Berry Fiber Art
REFRESH-INTERVAL;VALUE=DURATION:PT1H
X-Robots-Tag:noindex
X-PUBLISHED-TTL:PT1H
BEGIN:VTIMEZONE
TZID:America/Chicago
BEGIN:DAYLIGHT
TZOFFSETFROM:-0600
TZOFFSETTO:-0500
TZNAME:CDT
DTSTART:20240310T080000
END:DAYLIGHT
BEGIN:STANDARD
TZOFFSETFROM:-0500
TZOFFSETTO:-0600
TZNAME:CST
DTSTART:20241103T070000
END:STANDARD
END:VTIMEZONE
BEGIN:VEVENT
DTSTART;TZID=America/Chicago:20240925T180000
DTEND;TZID=America/Chicago:20240925T210000
DTSTAMP:20260423T173037
CREATED:20240820T170639Z
LAST-MODIFIED:20240823T230903Z
UID:9910-1727287200-1727298000@maryberryfiberart.com
SUMMARY:Continuation of September 23\, 2024\, Class
DESCRIPTION:This is a continuation of the September 23\, 2024\, Weaving Double Width class.
URL:https://maryberryfiberart.com/event/continuation-of-september-23-2024-class/
CATEGORIES:Shaft Loom Weaving,Weaving
END:VEVENT
BEGIN:VEVENT
DTSTART;TZID=America/Chicago:20240923T180000
DTEND;TZID=America/Chicago:20240925T210000
DTSTAMP:20260423T173037
CREATED:20240818T214025Z
LAST-MODIFIED:20240820T194919Z
UID:9900-1727114400-1727298000@maryberryfiberart.com
SUMMARY:Double Width Weaving on a Shaft Loom (Sept. 23 & 25)
DESCRIPTION:Weave Twice as Wide as Your Loom Width!  Yes\, You Can!\nHave you ever wished that you had a really wide room\, then sighed and realized you would have nowhere to put one?  After all\, it’s not every single project where you want to weave 36+ inches wide\, right? \nWeaving double the weaving width of your loom is the answer\, whether you have 4 shafts\, 8 shafts\, or more! \nIn this class\, you will learn: \n\nHow and why weaving double the width of your works;\nHow to wind your warp so you can weave two layers of fabric at the same time;\nTips and Tricks on how to make your weft turn a corner neatly and without bunching up your warp.\nHow to expand your patterning from plain weave (on 4 shafts) to fancy patterns (8 shafts or more)\nHow to start and how to stop your weaving so the whole thing doesn’t come unraveled when you take it off the loom!\n\nThis class is part classroom lecture and part hands on.  Small looms will be provided for your use during class. \nDates:  Monday\, September 23rd\, and Wednesday\, September 25th \nTime:  6:00 pm – 9:00 pm \nCost: $95 includes your handouts\, materials\, and use of a warped loom during class.
URL:https://maryberryfiberart.com/event/double-width-weaving-on-a-shaft-loom-sept-23-25/
LOCATION:Millhouse McKinney\, 610 Elm Street\, Suite 1000\, McKinney\, Texas\, TX\, 75069\, United States
CATEGORIES:Shaft Loom Weaving
ORGANIZER;CN="Mary Berry":MAILTO:maryberryfiberart@gmail.com
END:VEVENT
END:VCALENDAR